BEGIN:VCALENDAR
VERSION:2.0
PRODID:spatie/icalendar-generator
DESCRIPTION:Events from Two Bob Short
X-WR-CALDESC:Events from Two Bob Short
REFRESH-INTERVAL;VALUE=DURATION:PT1440M
X-PUBLISHED-TTL:PT1440M
BEGIN:VTIMEZONE
TZID:Europe/London
BEGIN:DAYLIGHT
DTSTART:20260329T010000Z
TZOFFSETFROM:+0000
TZOFFSETTO:+0100
END:DAYLIGHT
BEGIN:STANDARD
DTSTART:20261025T020000Z
TZOFFSETFROM:+0100
TZOFFSETTO:+0000
END:STANDARD
END:VTIMEZONE
BEGIN:VTIMEZONE
TZID:UTC
BEGIN:STANDARD
DTSTART:20250726T152741Z
TZOFFSETFROM:+0000
TZOFFSETTO:+0000
END:STANDARD
END:VTIMEZONE
BEGIN:VEVENT
UID:84-80
DTSTAMP:20260422T152741Z
SUMMARY:The Cherry Tree
LOCATION:The Cherry Tree The Cherry Tree Wood Lane Dagenham  RM8 3LJ
ORGANIZER;CN=lee@lcarter.co.uk:MAILTO:lee@lcarter.co.uk
DTSTART;TZID=Europe/London:20260829T210000
DTEND;TZID=Europe/London:20260829T220000
X-ALT-DESC;FMTTYPE=TEXT/HTML:
CATEGORIES:General
URL;VALUE=URI:https://twobobshort.com/mc-events/the-cherry-tree-8/
METHOD:PUBLISH
END:VEVENT
END:VCALENDAR